BEGIN:VCALENDAR
PRODID:-//Solspace/Calendar//EN
VERSION:2.0
CALSCALE:GREGORIAN
BEGIN:VEVENT
UID:0b664ccf3bd65cd778685769c537f2e7@solspace.com
DTSTAMP:20260420T092618
DTSTART:20260420T000100
DTEND:20260420T235900
RRULE:FREQ=DAILY;UNTIL=20260518T235959Z
SUMMARY:Your Library\, Your Card Art Contest
END:VEVENT
BEGIN:VEVENT
UID:caefe2fc25be257bd82978cc003d273c@solspace.com
DTSTAMP:20260420T092618
DTSTART:20260420T133000
DTEND:20260420T160000
RRULE:FREQ=MONTHLY;UNTIL=20261217T235959Z;BYDAY=3MO
SUMMARY:Writers' Salon (3rd MON.)
END:VEVENT
BEGIN:VEVENT
UID:70d5287af1a235e74853e41aeb54482b@solspace.com
DTSTAMP:20260420T092618
DTSTART:20260420T151500
DTEND:20260420T170000
RRULE:FREQ=WEEKLY;UNTIL=20260604T235959Z;BYDAY=MO,TU,WE,TH
EXDATE:20250901T151500,20250922T151500,20251111T151500,20251127T151500,20251208T151500,20251209T151500,20251210T151500,20251211T151500,20251222T151500,20251223T151500,20251224T151500,20251225T151500,20251229T151500,20251230T151500,20251231T151500,20260101T151500,20260119T151500,20260120T151500,20260126T151500,20260127T151500,20260216T151500,20260427T151500,20260525T151500
SUMMARY:After-School Zone
END:VEVENT
BEGIN:VEVENT
UID:a8bfbd20f9cd8a51c08b2204b7481c01@solspace.com
DTSTAMP:20260420T092618
DTSTART:20260420T183000
DTEND:20260420T203000
RRULE:FREQ=WEEKLY;UNTIL=20261117T235959Z;INTERVAL=2;BYDAY=MO
EXDATE:20250526T183000,20250922T183000,20251229T183000
SUMMARY:Shut Up and Write!
END:VEVENT
BEGIN:VEVENT
UID:6ecd450b84f658c6a063d60a2fdfe0e2@solspace.com
DTSTAMP:20260420T092618
DTSTART:20260421T183000
DTEND:20260421T200000
SUMMARY:Benicia Cooperative Housing Exploratory Meeting
END:VEVENT
BEGIN:VEVENT
UID:bd7be87a0976f273103570e51334af79@solspace.com
DTSTAMP:20260420T092618
DTSTART:20260421T190000
DTEND:20260421T200000
RRULE:FREQ=MONTHLY;UNTIL=20261217T235959Z;BYDAY=3TU
SUMMARY:Kids' Books for Adults Book Club
END:VEVENT
BEGIN:VEVENT
UID:1ca78b30875e93642a7bd872ecebbd92@solspace.com
DTSTAMP:20260420T092618
DTSTART:20260422T103000
DTEND:20260422T110000
RRULE:FREQ=WEEKLY;UNTIL=20270304T235959Z;BYDAY=WE
EXDATE:20241225T103000,20250101T103000,20251112T103000,20251224T103000,20251231T103000,20260506T103000,20260624T103000,20260729T103000,20260826T103000,20260930T103000,20261028T103000,20261125T103000,20261223T103000,20261230T103000,20270127T103000,20270224T103000
SUMMARY:Toddler Storytime
END:VEVENT
BEGIN:VEVENT
UID:e4416d564244a12fd79603d85bf931e9@solspace.com
DTSTAMP:20260420T092618
DTSTART:20260422T130000
DTEND:20260422T133000
RRULE:FREQ=WEEKLY;UNTIL=20270304T235959Z;BYDAY=WE
EXDATE:20241225T130000,20250101T130000,20251112T130000,20251224T130000,20251231T130000,20260506T130000,20260624T130000,20260729T130000,20260826T130000,20260930T130000,20261028T130000,20261125T130000,20261223T130000,20261230T130000,20270127T130000,20270224T130000
SUMMARY:Baby Storytime
END:VEVENT
BEGIN:VEVENT
UID:63ff3b64fb5c201228945fa402a59131@solspace.com
DTSTAMP:20260420T092618
DTSTART:20260422T173000
DTEND:20260422T190000
SUMMARY:Planned Giving Essentials
END:VEVENT
BEGIN:VEVENT
UID:b31645fa2064aaf5d5661b9b25c463bf@solspace.com
DTSTAMP:20260420T092618
DTSTART:20260423T100000
DTEND:20260423T120000
RRULE:FREQ=WEEKLY;UNTIL=20270326T235959Z;BYDAY=TH
EXDATE:20240704T100000,20241031T100000,20241128T100000,20241226T100000,20250102T100000,20251030T100000,20251113T100000,20251127T100000,20251225T100000,20260101T100000
SUMMARY:Tech Help
END:VEVENT
BEGIN:VEVENT
UID:e8c9fcc851fcab0e7e8dd2ce59fe7bcd@solspace.com
DTSTAMP:20260420T092618
DTSTART:20260423T160000
DTEND:20260423T170000
SUMMARY:Online Author Talk: Thalia Ho (Cooking Series)
END:VEVENT
BEGIN:VEVENT
UID:81a4f567cd73367d9d540a8abee54cce@solspace.com
DTSTAMP:20260420T092618
DTSTART:20260423T190000
DTEND:20260423T200000
SUMMARY:Tarot 101
END:VEVENT
BEGIN:VEVENT
UID:b6e634a901863e02707365ec4dbd84e7@solspace.com
DTSTAMP:20260420T092618
DTSTART:20260423T190000
DTEND:20260423T200000
RRULE:FREQ=MONTHLY;UNTIL=20261216T235959Z;BYDAY=4TH
EXDATE:20241128T190000,20241226T190000,20251111T190000,20251127T190000,20251225T190000
SUMMARY:Mystery Book Club
END:VEVENT
BEGIN:VEVENT
UID:a1b338e919faa89eb0682a678ec1c308@solspace.com
DTSTAMP:20260420T092618
DTSTART:20260424T093000
DTEND:20260424T113000
RRULE:FREQ=WEEKLY;UNTIL=20270228T235959Z;BYDAY=FR,SA
EXDATE:20240920T093000,20240921T093000,20241129T093000,20241130T093000,20241203T093000,20241220T093000,20241221T093000,20241227T093000,20241228T093000,20250103T093000,20250222T093000,20250404T093000,20250405T093000,20250411T093000,20250412T093000,20250704T093000,20250919T093000,20250920T093000,20251128T093000,20251129T093000,20251226T093000,20251227T093000,20260102T093000,20260103T093000,20260403T093000,20260404T093000,20260410T093000,20260411T093000,20260417T093000,20260418T093000
SUMMARY:GED Classes
END:VEVENT
BEGIN:VEVENT
UID:fe55402f7177563d27c360af980c94eb@solspace.com
DTSTAMP:20260420T092618
DTSTART:20260424T113500
DTEND:20260424T130000
RRULE:FREQ=WEEKLY;UNTIL=20270327T235959Z;BYDAY=FR
EXDATE:20240920T113500,20241129T113500,20241227T113500,20250103T113500,20250404T113500,20250411T113500,20250704T113500,20251128T113500,20251226T113500,20260102T113500,20260403T113500,20260410T113500,20260417T113500
SUMMARY:Resume Writing & Career Counseling
END:VEVENT
BEGIN:VEVENT
UID:8ae5c8f5df81d497dbb62b31aa85fde2@solspace.com
DTSTAMP:20260420T092618
DTSTART:20260424T130000
DTEND:20260424T170000
RRULE:FREQ=WEEKLY;UNTIL=20270327T235959Z;BYDAY=FR
EXDATE:20240809T130000,20241227T130000,20250704T130000,20250822T130000,20251128T130000,20251226T130000,20260130T130000,20260612T130000,20260626T130000,20260703T130000,20260710T130000
SUMMARY:Unplugged Arcade
END:VEVENT
BEGIN:VEVENT
UID:8e09403a1cd7911be12106253bf5bec0@solspace.com
DTSTAMP:20260420T092618
DTSTART:20260425T113000
DTEND:20260425T120000
RRULE:FREQ=MONTHLY;UNTIL=20260531T235959Z;BYDAY=-1SA
EXDATE:20251227T113000
SUMMARY:ASL Storytime
END:VEVENT
BEGIN:VEVENT
UID:6752c9032b7de04f211e1f041bd1e9fc@solspace.com
DTSTAMP:20260420T092618
DTSTART:20260425T130000
DTEND:20260425T150000
SUMMARY:The Great Puzzle Race
END:VEVENT
BEGIN:VEVENT
UID:1bdc6a1aa94e2c329ebf1b7bcf651608@solspace.com
DTSTAMP:20260420T092618
DTSTART:20260425T160000
DTEND:20260425T170000
SUMMARY:All About Honey Bees
END:VEVENT
BEGIN:VEVENT
UID:d9768c986f822a4877b7e0a45dc0f4e4@solspace.com
DTSTAMP:20260420T092618
DTSTART:20260427T160000
DTEND:20260427T180000
SUMMARY:Learn to Crochet
END:VEVENT
BEGIN:VEVENT
UID:5b51b476527c8c9402c4234c2b34faed@solspace.com
DTSTAMP:20260420T092618
DTSTART:20260428T120000
DTEND:20260428T133000
RRULE:FREQ=MONTHLY;UNTIL=20270306T235959Z;BYDAY=4TU
EXDATE:20241126T120000,20241224T120000,20251125T120000,20251223T120000
SUMMARY:Cook the Book Book Club
END:VEVENT
BEGIN:VEVENT
UID:72796197427c05be9367d5d8626083cc@solspace.com
DTSTAMP:20260420T092618
DTSTART:20260429T151500
DTEND:20260429T161500
SUMMARY:Lotería
END:VEVENT
BEGIN:VEVENT
UID:327ec628c5d10af7e1e1c6d4a712b09a@solspace.com
DTSTAMP:20260420T092618
DTSTART:20260429T180000
DTEND:20260429T203000
SUMMARY:Black Poetry Celebration
END:VEVENT
BEGIN:VEVENT
UID:bdf2eb47fa8e685b8a16a2e844087c66@solspace.com
DTSTAMP:20260420T092618
DTSTART:20260430T160000
DTEND:20260430T170000
SUMMARY:Online Author Talk: Jason Reynolds (K-12 Series)
END:VEVENT
BEGIN:VEVENT
UID:f903eb5f6185d4f2604067f32ae612af@solspace.com
DTSTAMP:20260420T092618
DTSTART:20260430T180000
DTEND:20260430T203000
SUMMARY:AP Café
END:VEVENT
BEGIN:VEVENT
UID:136f0d707f00009f7de0392e3231eaf4@solspace.com
DTSTAMP:20260420T092618
DTSTART:20260501T180000
DTEND:20260501T210000
RRULE:FREQ=MONTHLY;UNTIL=20270213T235959Z;BYDAY=1FR
EXDATE:20250704T180000,20251128T180000,20251226T180000,20260206T180000
SUMMARY:Board Games (First Friday)
END:VEVENT
BEGIN:VEVENT
UID:30c5d8c28639d4db557a20180656ad28@solspace.com
DTSTAMP:20260420T092618
DTSTART:20260502T100000
DTEND:20260502T120000
RRULE:FREQ=MONTHLY;UNTIL=20270308T235959Z;BYDAY=1SA
SUMMARY:Friends' Donation Saturday (1st Sat.)
END:VEVENT
BEGIN:VEVENT
UID:75e323e5694ca6070518e77f2cdc293a@solspace.com
DTSTAMP:20260420T092618
DTSTART:20260502T130000
DTEND:20260502T150000
SUMMARY:Free Comic Book Day
END:VEVENT
BEGIN:VEVENT
UID:a121830ad2a8bb711f8651a8a77d6a53@solspace.com
DTSTAMP:20260420T092618
DTSTART:20260502T190000
DTEND:20260502T210000
SUMMARY:Lucha Libro: Round Six
END:VEVENT
BEGIN:VEVENT
UID:43ccf4e86ad59175722a7c8957bf9bf3@solspace.com
DTSTAMP:20260420T092618
DTSTART:20260504T133000
DTEND:20260504T160000
RRULE:FREQ=MONTHLY;UNTIL=20261217T235959Z;BYDAY=1MO
SUMMARY:Writers' Salon (1st MON.)
END:VEVENT
BEGIN:VEVENT
UID:9e48a9a9df9a52778e46474ac4e2650d@solspace.com
DTSTAMP:20260420T092618
DTSTART:20260504T183000
DTEND:20260504T193000
RRULE:FREQ=MONTHLY;UNTIL=20270308T235959Z;BYDAY=1MO
EXDATE:20250408T183000,20250812T183000,20251014T183000,20251111T183000,20251209T183000
SUMMARY:Library Board Meeting
END:VEVENT
BEGIN:VEVENT
UID:d7d22ff20f9b4738f7c8b6cf61880fe4@solspace.com
DTSTAMP:20260420T092618
DTSTART:20260505T110000
DTEND:20260505T120000
SUMMARY:Online Author Talk: Radhi Devlukia-Shetty (Cooking Series)
END:VEVENT
BEGIN:VEVENT
UID:eb4e37a50c72abdbfab6c8482a31a793@solspace.com
DTSTAMP:20260420T092618
DTSTART:20260505T180000
DTEND:20260505T200000
SUMMARY:Indie Lens Pop-Up Screening: The Grocery List Show
END:VEVENT
BEGIN:VEVENT
UID:b8be8ef66d5adba5a9c25933e220ffd5@solspace.com
DTSTAMP:20260420T092618
DTSTART:20260505T181500
DTEND:20260505T203000
RRULE:FREQ=MONTHLY;UNTIL=20261103T235959Z;BYDAY=1TU
EXDATE:20240702T181500,20240806T181500,20250701T181500,20250805T181500
SUMMARY:First Tuesday Poetry Group
END:VEVENT
BEGIN:VEVENT
UID:d1710375f12b82496b7e7f1c004e8f28@solspace.com
DTSTAMP:20260420T092618
DTSTART:20260506T100000
DTEND:20260513T100000
SUMMARY:REGISTRATION for Lawyer on the Line
END:VEVENT
BEGIN:VEVENT
UID:d1887b8e654fb5f6be3b7e263e43b87d@solspace.com
DTSTAMP:20260420T092618
DTSTART:20240731T100000
DTEND:20240807T100000
SUMMARY:REGISTRATION for Lawyer on the Line
END:VEVENT
BEGIN:VEVENT
UID:c7aaa0eafb64d0d835f5b9e46b7da448@solspace.com
DTSTAMP:20260420T092618
DTSTART:20240904T100000
DTEND:20240911T100000
SUMMARY:REGISTRATION for Lawyer on the Line
END:VEVENT
BEGIN:VEVENT
UID:8c0e53f306af1610aee76f9a67f1be23@solspace.com
DTSTAMP:20260420T092618
DTSTART:20241002T100000
DTEND:20241009T100000
SUMMARY:REGISTRATION for Lawyer on the Line
END:VEVENT
BEGIN:VEVENT
UID:132bd16bc13ce57666fe8c99aa845c14@solspace.com
DTSTAMP:20260420T092618
DTSTART:20241106T100000
DTEND:20241113T100000
SUMMARY:REGISTRATION for Lawyer on the Line
END:VEVENT
BEGIN:VEVENT
UID:5600938e9b83b2f2d7bcf4ff3903fc04@solspace.com
DTSTAMP:20260420T092618
DTSTART:20241204T100000
DTEND:20241211T100000
SUMMARY:REGISTRATION for Lawyer on the Line
END:VEVENT
BEGIN:VEVENT
UID:822c98f0fe674ccfff8b664745d64393@solspace.com
DTSTAMP:20260420T092618
DTSTART:20250101T100000
DTEND:20250108T100000
SUMMARY:REGISTRATION for Lawyer on the Line
END:VEVENT
BEGIN:VEVENT
UID:8ca31823aab6913d5d5b03886e01ea53@solspace.com
DTSTAMP:20260420T092618
DTSTART:20250205T100000
DTEND:20250212T100000
SUMMARY:REGISTRATION for Lawyer on the Line
END:VEVENT
BEGIN:VEVENT
UID:38f3227d308d0691cae8c38234abc072@solspace.com
DTSTAMP:20260420T092618
DTSTART:20250305T100000
DTEND:20250312T100000
SUMMARY:REGISTRATION for Lawyer on the Line
END:VEVENT
BEGIN:VEVENT
UID:91965d0770ed55997213da5ccee8d9ba@solspace.com
DTSTAMP:20260420T092618
DTSTART:20250402T100000
DTEND:20250409T100000
SUMMARY:REGISTRATION for Lawyer on the Line
END:VEVENT
BEGIN:VEVENT
UID:9257d84bc9999ea3f97b177cbb948c7d@solspace.com
DTSTAMP:20260420T092618
DTSTART:20250430T100000
DTEND:20250507T100000
SUMMARY:REGISTRATION for Lawyer on the Line
END:VEVENT
BEGIN:VEVENT
UID:b20d481ec1ad4bc40702724afa62b2cc@solspace.com
DTSTAMP:20260420T092618
DTSTART:20250604T100000
DTEND:20250611T100000
SUMMARY:REGISTRATION for Lawyer on the Line
END:VEVENT
BEGIN:VEVENT
UID:9136ccef02e6c65be220ae15e22cbf6d@solspace.com
DTSTAMP:20260420T092618
DTSTART:20250702T100000
DTEND:20250709T100000
SUMMARY:REGISTRATION for Lawyer on the Line
END:VEVENT
BEGIN:VEVENT
UID:8ddf58041984698f608d05b487fe377e@solspace.com
DTSTAMP:20260420T092618
DTSTART:20250806T100000
DTEND:20250813T100000
SUMMARY:REGISTRATION for Lawyer on the Line
END:VEVENT
BEGIN:VEVENT
UID:291f44664f15a2d51f7f018654480354@solspace.com
DTSTAMP:20260420T092618
DTSTART:20250903T100000
DTEND:20250910T100000
SUMMARY:REGISTRATION for Lawyer on the Line
END:VEVENT
BEGIN:VEVENT
UID:3949848f09a2c7959d3087216475bb76@solspace.com
DTSTAMP:20260420T092618
DTSTART:20251001T100000
DTEND:20251008T100000
SUMMARY:REGISTRATION for Lawyer on the Line
END:VEVENT
BEGIN:VEVENT
UID:2c2271fc80f2186f225a098edece8bfb@solspace.com
DTSTAMP:20260420T092618
DTSTART:20251105T100000
DTEND:20251112T100000
SUMMARY:REGISTRATION for Lawyer on the Line
END:VEVENT
BEGIN:VEVENT
UID:fbbcd747deb9cd93cff2bd8d47767303@solspace.com
DTSTAMP:20260420T092618
DTSTART:20251203T100000
DTEND:20251210T100000
SUMMARY:REGISTRATION for Lawyer on the Line
END:VEVENT
BEGIN:VEVENT
UID:6172bc5c8536d138d1e6bc9ef86f6b1d@solspace.com
DTSTAMP:20260420T092618
DTSTART:20251231T100000
DTEND:20260107T100000
SUMMARY:REGISTRATION for Lawyer on the Line
END:VEVENT
BEGIN:VEVENT
UID:3218c8a08fdc77c4050886c5a9a1c07e@solspace.com
DTSTAMP:20260420T092618
DTSTART:20260204T100000
DTEND:20260211T100000
SUMMARY:REGISTRATION for Lawyer on the Line
END:VEVENT
BEGIN:VEVENT
UID:fbce6d7ed4c5a054da8a01d82f79c191@solspace.com
DTSTAMP:20260420T092618
DTSTART:20260304T100000
DTEND:20260311T100000
SUMMARY:REGISTRATION for Lawyer on the Line
END:VEVENT
BEGIN:VEVENT
UID:d90eb49563e3f17db478dfe20f0e80c9@solspace.com
DTSTAMP:20260420T092618
DTSTART:20260401T100000
DTEND:20260408T100000
SUMMARY:REGISTRATION for Lawyer on the Line
END:VEVENT
BEGIN:VEVENT
UID:d1710375f12b82496b7e7f1c004e8f28@solspace.com
DTSTAMP:20260420T092618
DTSTART:20260506T100000
DTEND:20260513T100000
SUMMARY:REGISTRATION for Lawyer on the Line
END:VEVENT
BEGIN:VEVENT
UID:a98191f2d8406bc8ea20e8207bf1cf8b@solspace.com
DTSTAMP:20260420T092618
DTSTART:20260603T100000
DTEND:20260610T100000
SUMMARY:REGISTRATION for Lawyer on the Line
END:VEVENT
BEGIN:VEVENT
UID:a016705bfbbb8eab8bb88f496f34f7d6@solspace.com
DTSTAMP:20260420T092618
DTSTART:20260701T100000
DTEND:20260708T100000
SUMMARY:REGISTRATION for Lawyer on the Line
END:VEVENT
BEGIN:VEVENT
UID:91bec62818ff1d10ec76f16167524d3c@solspace.com
DTSTAMP:20260420T092618
DTSTART:20260805T100000
DTEND:20260812T100000
SUMMARY:REGISTRATION for Lawyer on the Line
END:VEVENT
BEGIN:VEVENT
UID:a0ade05916fc68ba48d2aef3df9bab73@solspace.com
DTSTAMP:20260420T092618
DTSTART:20260902T100000
DTEND:20260909T100000
SUMMARY:REGISTRATION for Lawyer on the Line
END:VEVENT
BEGIN:VEVENT
UID:15de300b6c4815011afd311318e92bff@solspace.com
DTSTAMP:20260420T092618
DTSTART:20260930T100000
DTEND:20261007T100000
SUMMARY:REGISTRATION for Lawyer on the Line
END:VEVENT
BEGIN:VEVENT
UID:e3f49563947ac5539e6ef1e92b46b558@solspace.com
DTSTAMP:20260420T092618
DTSTART:20261104T100000
DTEND:20261111T100000
SUMMARY:REGISTRATION for Lawyer on the Line
END:VEVENT
BEGIN:VEVENT
UID:3fd25267484d0f79d91a87880255f3bc@solspace.com
DTSTAMP:20260420T092618
DTSTART:20261202T100000
DTEND:20261209T100000
SUMMARY:REGISTRATION for Lawyer on the Line
END:VEVENT
BEGIN:VEVENT
UID:326fa5756cdb57937b8e384c54e422d5@solspace.com
DTSTAMP:20260420T092618
DTSTART:20260506T103000
DTEND:20260506T113000
SUMMARY:Storytime with Style!
END:VEVENT
BEGIN:VEVENT
UID:30486a8b3aa4029e78d3e2391c3d8b81@solspace.com
DTSTAMP:20260420T092618
DTSTART:20260506T120000
DTEND:20260506T130000
RRULE:FREQ=MONTHLY;UNTIL=20261217T235959Z;BYDAY=1WE
EXDATE:20250101T120000
SUMMARY:Noon Book Club
END:VEVENT
BEGIN:VEVENT
UID:1c680cbe03b73481883f55b20ed30852@solspace.com
DTSTAMP:20260420T092618
DTSTART:20260506T151500
DTEND:20260506T170000
RRULE:FREQ=MONTHLY;UNTIL=20261207T235959Z;BYDAY=1WE
SUMMARY:Pokémon Club
END:VEVENT
BEGIN:VEVENT
UID:3da22b5882eb6866a0dbe423d99797ba@solspace.com
DTSTAMP:20260420T092618
DTSTART:20260507T151500
DTEND:20260507T170000
SUMMARY:LEGO Club
END:VEVENT
BEGIN:VEVENT
UID:5a7a0591a6aeb22f2ec310b8a809fc53@solspace.com
DTSTAMP:20260420T092618
DTSTART:20260416T151500
DTEND:20260416T170000
SUMMARY:LEGO Club
END:VEVENT
BEGIN:VEVENT
UID:3da22b5882eb6866a0dbe423d99797ba@solspace.com
DTSTAMP:20260420T092618
DTSTART:20260507T151500
DTEND:20260507T170000
SUMMARY:LEGO Club
END:VEVENT
BEGIN:VEVENT
UID:c88518a6de3348cd0d5f53b355513c66@solspace.com
DTSTAMP:20260420T092618
DTSTART:20260521T151500
DTEND:20260521T170000
SUMMARY:LEGO Club
END:VEVENT
BEGIN:VEVENT
UID:ad8f6f5a984103ca9edb50cb9fa56b15@solspace.com
DTSTAMP:20260420T092618
DTSTART:20260507T160000
DTEND:20260507T170000
SUMMARY:Online Author Talk: Marjan Kamali (Fiction Series)
END:VEVENT
BEGIN:VEVENT
UID:7da28484657285007fa7d6bf0e763013@solspace.com
DTSTAMP:20260420T092618
DTSTART:20260507T180000
DTEND:20260507T200000
SUMMARY:Friends of the Library Members Only Sale
END:VEVENT
BEGIN:VEVENT
UID:abf92f81232646bd46d0c73e21942207@solspace.com
DTSTAMP:20260420T092618
DTSTART:20231207T180000
DTEND:20231207T200000
SUMMARY:Friends of the Library Members Only Sale
END:VEVENT
BEGIN:VEVENT
UID:ab66775e3f14ea535b5d72d04e71c44a@solspace.com
DTSTAMP:20260420T092618
DTSTART:20240111T180000
DTEND:20240111T200000
SUMMARY:Friends of the Library Members Only Sale
END:VEVENT
BEGIN:VEVENT
UID:7d47a0a720f365f44d152d7e7fbfaf27@solspace.com
DTSTAMP:20260420T092618
DTSTART:20240208T180000
DTEND:20240208T200000
SUMMARY:Friends of the Library Members Only Sale
END:VEVENT
BEGIN:VEVENT
UID:ca3bed62582b60e9f0dbae64d3a21b2e@solspace.com
DTSTAMP:20260420T092618
DTSTART:20240307T180000
DTEND:20240307T200000
SUMMARY:Friends of the Library Members Only Sale
END:VEVENT
BEGIN:VEVENT
UID:a6932ffa416e84a360ac3b5dca97d74c@solspace.com
DTSTAMP:20260420T092618
DTSTART:20240411T180000
DTEND:20240411T200000
SUMMARY:Friends of the Library Members Only Sale
END:VEVENT
BEGIN:VEVENT
UID:cb68e08f4402d053e9dd840555e14aba@solspace.com
DTSTAMP:20260420T092618
DTSTART:20240509T180000
DTEND:20240509T200000
SUMMARY:Friends of the Library Members Only Sale
END:VEVENT
BEGIN:VEVENT
UID:457e2737de8c1fbd7ee2cb838ab24c55@solspace.com
DTSTAMP:20260420T092618
DTSTART:20240808T180000
DTEND:20240808T200000
SUMMARY:Friends of the Library Members Only Sale
END:VEVENT
BEGIN:VEVENT
UID:c67d4040ac18b1706fe27f99a97b6628@solspace.com
DTSTAMP:20260420T092618
DTSTART:20240912T180000
DTEND:20240912T200000
SUMMARY:Friends of the Library Members Only Sale
END:VEVENT
BEGIN:VEVENT
UID:819d0fe045a7a6f785e629ed47492726@solspace.com
DTSTAMP:20260420T092618
DTSTART:20241010T180000
DTEND:20241010T200000
SUMMARY:Friends of the Library Members Only Sale
END:VEVENT
BEGIN:VEVENT
UID:63bf01083cc6dd1afd5401f50652cbd7@solspace.com
DTSTAMP:20260420T092618
DTSTART:20241107T180000
DTEND:20241107T200000
SUMMARY:Friends of the Library Members Only Sale
END:VEVENT
BEGIN:VEVENT
UID:0bd364cb493f0139f19eb95a913abbde@solspace.com
DTSTAMP:20260420T092618
DTSTART:20241212T180000
DTEND:20241212T200000
SUMMARY:Friends of the Library Members Only Sale
END:VEVENT
BEGIN:VEVENT
UID:ca0cb6b329d03fc7426e38d990dd0596@solspace.com
DTSTAMP:20260420T092618
DTSTART:20250109T180000
DTEND:20250109T200000
SUMMARY:Friends of the Library Members Only Sale
END:VEVENT
BEGIN:VEVENT
UID:b261b9fffd3d959523e1b31db928c630@solspace.com
DTSTAMP:20260420T092618
DTSTART:20250206T180000
DTEND:20250206T200000
SUMMARY:Friends of the Library Members Only Sale
END:VEVENT
BEGIN:VEVENT
UID:b1bd1fdee9d03454d42acdb3ab8c462d@solspace.com
DTSTAMP:20260420T092618
DTSTART:20250306T180000
DTEND:20250306T200000
SUMMARY:Friends of the Library Members Only Sale
END:VEVENT
BEGIN:VEVENT
UID:de7912c531ef7fa479d35a7244c33c49@solspace.com
DTSTAMP:20260420T092618
DTSTART:20250410T180000
DTEND:20250410T200000
SUMMARY:Friends of the Library Members Only Sale
END:VEVENT
BEGIN:VEVENT
UID:104c681361097b36e19c29622c45ae78@solspace.com
DTSTAMP:20260420T092618
DTSTART:20250508T180000
DTEND:20250508T200000
SUMMARY:Friends of the Library Members Only Sale
END:VEVENT
BEGIN:VEVENT
UID:f78bb6c219bcecc5a1834e2457850583@solspace.com
DTSTAMP:20260420T092618
DTSTART:20250612T180000
DTEND:20250612T200000
SUMMARY:Friends of the Library Members Only Sale
END:VEVENT
BEGIN:VEVENT
UID:013ea8fa7adad54fa9e922465ed870d7@solspace.com
DTSTAMP:20260420T092618
DTSTART:20250710T180000
DTEND:20250710T200000
SUMMARY:Friends of the Library Members Only Sale
END:VEVENT
BEGIN:VEVENT
UID:4cf6257ea8e7b90d8e6566ea309ea73b@solspace.com
DTSTAMP:20260420T092618
DTSTART:20250807T180000
DTEND:20250807T200000
SUMMARY:Friends of the Library Members Only Sale
END:VEVENT
BEGIN:VEVENT
UID:65e009cd55bed0738fcb01e9d86c92aa@solspace.com
DTSTAMP:20260420T092618
DTSTART:20250911T180000
DTEND:20250911T200000
SUMMARY:Friends of the Library Members Only Sale
END:VEVENT
BEGIN:VEVENT
UID:5eca6f067ae34271dd432e3346c4d62a@solspace.com
DTSTAMP:20260420T092618
DTSTART:20251009T180000
DTEND:20251009T200000
SUMMARY:Friends of the Library Members Only Sale
END:VEVENT
BEGIN:VEVENT
UID:190ca717157920a83733ddff627900e5@solspace.com
DTSTAMP:20260420T092618
DTSTART:20251106T180000
DTEND:20251106T200000
SUMMARY:Friends of the Library Members Only Sale
END:VEVENT
BEGIN:VEVENT
UID:74be13fe6881b8909f938db44b2a0b7d@solspace.com
DTSTAMP:20260420T092618
DTSTART:20251211T180000
DTEND:20251211T200000
SUMMARY:Friends of the Library Members Only Sale
END:VEVENT
BEGIN:VEVENT
UID:32381864aa4f140746b151c2d110c405@solspace.com
DTSTAMP:20260420T092618
DTSTART:20260108T180000
DTEND:20260108T200000
SUMMARY:Friends of the Library Members Only Sale
END:VEVENT
BEGIN:VEVENT
UID:6fb75f79f6e1f3e86d4095db49543657@solspace.com
DTSTAMP:20260420T092618
DTSTART:20260212T180000
DTEND:20260212T200000
SUMMARY:Friends of the Library Members Only Sale
END:VEVENT
BEGIN:VEVENT
UID:eb57186b26c99211c7dfedc25742b0c6@solspace.com
DTSTAMP:20260420T092618
DTSTART:20260312T180000
DTEND:20260312T200000
SUMMARY:Friends of the Library Members Only Sale
END:VEVENT
BEGIN:VEVENT
UID:6e3b12d1ed5de5ccd6971867eb7a53d2@solspace.com
DTSTAMP:20260420T092618
DTSTART:20260409T180000
DTEND:20260409T200000
SUMMARY:Friends of the Library Members Only Sale
END:VEVENT
BEGIN:VEVENT
UID:7da28484657285007fa7d6bf0e763013@solspace.com
DTSTAMP:20260420T092618
DTSTART:20260507T180000
DTEND:20260507T200000
SUMMARY:Friends of the Library Members Only Sale
END:VEVENT
BEGIN:VEVENT
UID:e3ab5e5ae313b35b10aeaedc7b080feb@solspace.com
DTSTAMP:20260420T092618
DTSTART:20260611T180000
DTEND:20260611T200000
SUMMARY:Friends of the Library Members Only Sale
END:VEVENT
BEGIN:VEVENT
UID:b834c2925d8290e0645db1c65d55393f@solspace.com
DTSTAMP:20260420T092618
DTSTART:20260709T180000
DTEND:20260709T200000
SUMMARY:Friends of the Library Members Only Sale
END:VEVENT
BEGIN:VEVENT
UID:270909f58cde69f91d9bc12ac53015c9@solspace.com
DTSTAMP:20260420T092618
DTSTART:20260806T180000
DTEND:20260806T200000
SUMMARY:Friends of the Library Members Only Sale
END:VEVENT
BEGIN:VEVENT
UID:914fd9f70d24021834b6c5416f60e943@solspace.com
DTSTAMP:20260420T092618
DTSTART:20260910T180000
DTEND:20260910T200000
SUMMARY:Friends of the Library Members Only Sale
END:VEVENT
BEGIN:VEVENT
UID:517e80c2cb70fa183f9fc88a65c59b01@solspace.com
DTSTAMP:20260420T092618
DTSTART:20261008T180000
DTEND:20261008T200000
SUMMARY:Friends of the Library Members Only Sale
END:VEVENT
BEGIN:VEVENT
UID:203145474eb0fed03c84f9968d2b144d@solspace.com
DTSTAMP:20260420T092618
DTSTART:20261112T180000
DTEND:20261112T200000
SUMMARY:Friends of the Library Members Only Sale
END:VEVENT
BEGIN:VEVENT
UID:e13206b27d506c2c906d7aa9c0525e33@solspace.com
DTSTAMP:20260420T092618
DTSTART:20261210T180000
DTEND:20261210T200000
SUMMARY:Friends of the Library Members Only Sale
END:VEVENT
BEGIN:VEVENT
UID:4fc7716dfcfc6efc9f38aa677dcbe33f@solspace.com
DTSTAMP:20260420T092618
DTSTART:20270107T180000
DTEND:20270107T200000
SUMMARY:Friends of the Library Members Only Sale
END:VEVENT
BEGIN:VEVENT
UID:ef23d86ee95fb33af46f3bc35120cd8f@solspace.com
DTSTAMP:20260420T092618
DTSTART:20270211T180000
DTEND:20270211T200000
SUMMARY:Friends of the Library Members Only Sale
END:VEVENT
BEGIN:VEVENT
UID:612a25c79a3e113258c59804153f3fe8@solspace.com
DTSTAMP:20260420T092618
DTSTART:20270311T180000
DTEND:20270311T200000
SUMMARY:Friends of the Library Members Only Sale
END:VEVENT
BEGIN:VEVENT
UID:7e9dc186adec090a373c8d04fc2f5ff4@solspace.com
DTSTAMP:20260420T092618
DTSTART:20260508T180000
DTEND:20260508T210000
RRULE:FREQ=MONTHLY;UNTIL=20270213T235959Z;BYDAY=2FR
SUMMARY:Board Games (Second Friday)
END:VEVENT
BEGIN:VEVENT
UID:69498da408363246c9a221539651bea9@solspace.com
DTSTAMP:20260420T092618
DTSTART:20260509T100000
DTEND:20260509T160000
RRULE:FREQ=MONTHLY;UNTIL=20270306T235959Z;BYDAY=2SA
SUMMARY:Friends of the Library 2nd Saturday Book Sale
END:VEVENT
BEGIN:VEVENT
UID:97c3b6fa1fe5b564bae894effa0c9a3c@solspace.com
DTSTAMP:20260420T092618
DTSTART:20260509T150000
DTEND:20260509T203000
RRULE:FREQ=MONTHLY;UNTIL=20261213T235959Z;BYDAY=2SA
EXDATE:20251213T150000
SUMMARY:Super Smash Bros. Ultimate Tournament
END:VEVENT
BEGIN:VEVENT
UID:39b2b0c99a186fcbb49d1348e38052ff@solspace.com
DTSTAMP:20260420T092618
DTSTART:20260513T160000
DTEND:20260513T170000
SUMMARY:Basketball Skills Clinic
END:VEVENT
BEGIN:VEVENT
UID:8dee416e8959e63eba83c2bb4fdb0be3@solspace.com
DTSTAMP:20260420T092618
DTSTART:20260513T160000
DTEND:20260513T170000
SUMMARY:Basketball Skills Clinic
END:VEVENT
BEGIN:VEVENT
UID:696f6b50fa31698f30c24db6d9610123@solspace.com
DTSTAMP:20260420T092618
DTSTART:20260408T160000
DTEND:20260408T170000
SUMMARY:Basketball Skills Clinic
END:VEVENT
BEGIN:VEVENT
UID:8dee416e8959e63eba83c2bb4fdb0be3@solspace.com
DTSTAMP:20260420T092618
DTSTART:20260513T160000
DTEND:20260513T170000
SUMMARY:Basketball Skills Clinic
END:VEVENT
BEGIN:VEVENT
UID:e7568cebd56a2dd1484de54eb3559915@solspace.com
DTSTAMP:20260420T092618
DTSTART:20260514T110000
DTEND:20260514T120000
SUMMARY:Online Author Talk: Dr. Patrick Porter and Ruchika Sikri (Health & Wellness Series)
END:VEVENT
BEGIN:VEVENT
UID:ab4329162153da74186dd2e495268775@solspace.com
DTSTAMP:20260420T092618
DTSTART:20260514T180000
DTEND:20260514T190000
SUMMARY:Spring Gardening Series: Growing an Herb Garden
END:VEVENT
BEGIN:VEVENT
UID:548fc7f19fe66d1573d56c6912be1a0e@solspace.com
DTSTAMP:20260420T092618
DTSTART:20260514T180000
DTEND:20260514T200000
RRULE:FREQ=MONTHLY;UNTIL=20270108T235959Z;BYDAY=2TH
SUMMARY:Lawyer on the Line
END:VEVENT
BEGIN:VEVENT
UID:4bef35d44b6d185728662d8c27f5b412@solspace.com
DTSTAMP:20260420T092618
DTSTART:20260516T100000
DTEND:20260516T120000
RRULE:FREQ=MONTHLY;UNTIL=20270306T235959Z;BYDAY=3SA
EXDATE:20240713T100000,20240810T100000
SUMMARY:Food Is Free Distribution
END:VEVENT
BEGIN:VEVENT
UID:54ca98a07f3bd9d20fc9e380553fb0cb@solspace.com
DTSTAMP:20260420T092618
DTSTART:20260516T100000
DTEND:20260516T120000
RRULE:FREQ=MONTHLY;UNTIL=20270308T235959Z;BYDAY=3SA
EXDATE:20241221T100000
SUMMARY:Friends' Donation Saturday (3rd Sat.)
END:VEVENT
BEGIN:VEVENT
UID:d574c92c66e740b6374408da90de3790@solspace.com
DTSTAMP:20260420T092618
DTSTART:20260516T130000
DTEND:20260516T140000
RRULE:FREQ=MONTHLY;UNTIL=20260815T235959Z;BYDAY=3SA
EXDATE:20241221T130000,20250719T130000,20251129T130000,20251220T130000,20251227T130000,20260418T130000
SUMMARY:Cuddle Club
END:VEVENT
BEGIN:VEVENT
UID:f8c0dd0b5e56aa5ee9f5ba102bf735dd@solspace.com
DTSTAMP:20260420T092618
DTSTART:20260516T140000
DTEND:20260516T160000
SUMMARY:Disney Movies: Encanto
END:VEVENT
BEGIN:VEVENT
UID:59c2e79b727acad2c9d9570f357beb1d@solspace.com
DTSTAMP:20260420T092618
DTSTART:20260517T150000
DTEND:20260517T160000
SUMMARY:The Story of the Benicia-Martinez Railroad Drawbridge
END:VEVENT
BEGIN:VEVENT
UID:378254ca62e7e4aef9f399d009c0e7f6@solspace.com
DTSTAMP:20260420T092618
DTSTART:20260519T110000
DTEND:20260519T120000
SUMMARY:Online Author Talk: Nir Eyal (Nonfiction Series)
END:VEVENT
BEGIN:VEVENT
UID:9d66e754e680125885764bb55f7467ab@solspace.com
DTSTAMP:20260420T092618
DTSTART:20260519T180000
DTEND:20260519T190000
SUMMARY:Family Storytime
END:VEVENT
END:VCALENDAR